BEGIN:VCALENDAR
VERSION:2.0
PRODID:-//Plone.org//NONSGML plone.app.event//EN
X-WR-TIMEZONE:Europe/Berlin
BEGIN:VEVENT
SUMMARY:7. ExtremWetterKongress
DTSTART;TZID=Europe/Berlin;VALUE=DATE-TIME:20120320T103000
DTEND;TZID=Europe/Berlin;VALUE=DATE-TIME:20120323T133000
DTSTAMP;VALUE=DATE-TIME:20210814T051302Z
UID:cba5af05bd8a4ac8a435bd7039fa4b1f@localhost:8080
CONTACT:http://www.extremwetterkongress.de/de/ueber.html
CREATED;VALUE=DATE-TIME:20120207T121647Z
DESCRIPTION:PIK-Direktor Hans Joachim Schellnhuber hält am 2. Tag einen V
 ortrag über die internationale Klimapolitik - zwischen Traum und Wirklich
 keit. PIK-Wissenschaftler Thomas Grothmann hält einen Vortrag zur handlun
 gsmotivierenden Kommunikation des Klimawandels. Der ExtremWetterKongress i
 st Europas größter jährlicher Kongress zum Thema Extremwetter im Klimaw
 andel.
LAST-MODIFIED;VALUE=DATE-TIME:20151012T092249Z
LOCATION:Studio Hamburg
URL:https://www.pik-potsdam.de/de/aktuelles/oeffentliche-veranstaltungen/7
 .-extremwetterkongress
END:VEVENT
BEGIN:VTIMEZONE
TZID:Europe/Berlin
X-LIC-LOCATION:Europe/Berlin
BEGIN:STANDARD
DTSTART;VALUE=DATE-TIME:20111030T020000
TZNAME:CET
TZOFFSETFROM:+0200
TZOFFSETTO:+0100
END:STANDARD
END:VTIMEZONE
END:VCALENDAR
