BEGIN:VCALENDAR
VERSION:2.0
PRODID:-//Plone.org//NONSGML plone.app.event//EN
X-WR-TIMEZONE:Europe/Berlin
BEGIN:VEVENT
SUMMARY:2°C - Was ist beim Klimaschutz noch erreichbar?
DTSTART;TZID=Europe/Berlin;VALUE=DATE-TIME:20150218T190000
DTEND;TZID=Europe/Berlin;VALUE=DATE-TIME:20150218T210000
DTSTAMP;VALUE=DATE-TIME:20210814T051227Z
UID:b773f82b758a4761880dc2c7899e24b3@localhost:8080
CONTACT:http://www.mpg.de/8860251/Max-Planck-Forum-10-Jahre-Kyoto-Protokol
 l
CREATED;VALUE=DATE-TIME:20150227T135007Z
DESCRIPTION:Vortrag mit anschließender Diskussion. Vor zehn Jahren wurde 
 das Kyoto-Protokoll verabschiedet. Aus aktuellem Anlass diskutieren Jochem
  Marotzke vom Max-Planck-Institut für Metorologie und Jan Minx vom Potsda
 m-Institut für Klimafolgenforschung über Ergebnisse\, Spielräume und Pe
 rspektiven in der Klimapolitik.
LAST-MODIFIED;VALUE=DATE-TIME:20200831T102624Z
LOCATION:Berlin-Brandenburgische Akademie der Wissenschaften
URL:https://www.pik-potsdam.de/de/aktuelles/oeffentliche-veranstaltungen/2
 degc-was-ist-beim-klimaschutz-noch-erreichbar
END:VEVENT
BEGIN:VTIMEZONE
TZID:Europe/Berlin
X-LIC-LOCATION:Europe/Berlin
BEGIN:STANDARD
DTSTART;VALUE=DATE-TIME:20141026T020000
TZNAME:CET
TZOFFSETFROM:+0200
TZOFFSETTO:+0100
END:STANDARD
END:VTIMEZONE
END:VCALENDAR
