BEGIN:VCALENDAR
VERSION:2.0
PRODID:-//Plone.org//NONSGML plone.app.event//EN
X-WR-TIMEZONE:Europe/Berlin
BEGIN:VEVENT
SUMMARY:2. KiKA Kinder-Nachhaltigkeitstag
DTSTART;TZID=Europe/Berlin;VALUE=DATE-TIME:20121207T000000
DTEND;TZID=Europe/Berlin;VALUE=DATE-TIME:20121207T000000
DTSTAMP;VALUE=DATE-TIME:20210814T051310Z
UID:ca3691e3a8ee452e8ab8c25ff00cec45@localhost:8080
CONTACT:http://www.kika-presse.de/index.cfm?fuseaction=kika.pressemitteilu
 ng&pmi_id=1673
CREATED;VALUE=DATE-TIME:20121116T102456Z
DESCRIPTION:PIK-Wissenschaftler Stefan Rahmstorf unterstützt zusammen mit
  weiteren Experten und Prominenten 50 „Zukunftsmacher“ im Alter von ac
 ht bis 13 Jahren ihre eigenen Zukunftsvorstellungen und konkrete Ideen fü
 r ein nachhaltiges Miteinander zu entwickeln.
LAST-MODIFIED;VALUE=DATE-TIME:20200831T102626Z
LOCATION:Düsseldorf
URL:https://www.pik-potsdam.de/de/aktuelles/oeffentliche-veranstaltungen/2
 .-kika-kinder-nachhaltigkeitstag
END:VEVENT
BEGIN:VTIMEZONE
TZID:Europe/Berlin
X-LIC-LOCATION:Europe/Berlin
BEGIN:STANDARD
DTSTART;VALUE=DATE-TIME:20121028T020000
TZNAME:CET
TZOFFSETFROM:+0200
TZOFFSETTO:+0100
END:STANDARD
END:VTIMEZONE
END:VCALENDAR
