BEGIN:VCALENDAR
VERSION:2.0
PRODID:-//Plone.org//NONSGML plone.app.event//EN
X-WR-TIMEZONE:Europe/Berlin
BEGIN:VEVENT
SUMMARY:1st Gridspectives Dialogue Forum on the Aesthetics of the Energiew
 ende
DTSTART;TZID=Europe/Berlin;VALUE=DATE-TIME:20130422T100000
DTEND;TZID=Europe/Berlin;VALUE=DATE-TIME:20130422T170000
DTSTAMP;VALUE=DATE-TIME:20210814T051304Z
UID:ce7d33e10a5540f4b3a9d8d74301c9aa@localhost:8080
CONTACT:http://www.gridexpo.eu/1st-gridspectives-dialogue-forum-on-the-aes
 thetics-of-the-energiewende/
CREATED;VALUE=DATE-TIME:20130416T072720Z
DESCRIPTION:Fritz Reusswig\, Soziologe und Experte für nachhaltige Urbani
 tät am Potsdam-Institut für Klimafolgenforschung\, wird einen Vortrag zu
 m Thema "SOCIETY – Not me\, but you – or us?" im Rahmen des 1st Gridsp
 ectives Dialogue Forum on the Aesthetics of the Energiewende im ProjektZen
 trum Stiftung Mercator in Berlin halten. Eine Anmeldung auf der Website is
 t erforderlich!
LAST-MODIFIED;VALUE=DATE-TIME:20200831T102622Z
LOCATION:ProjektZentrum Stiftung Mercator\, Neue Promenade 6\, 10178 Berli
 n
URL:https://www.pik-potsdam.de/de/aktuelles/oeffentliche-veranstaltungen/1
 st-gridspectives-dialogue-forum-on-the-aesthetics-of-the-energiewende
END:VEVENT
BEGIN:VTIMEZONE
TZID:Europe/Berlin
X-LIC-LOCATION:Europe/Berlin
BEGIN:DAYLIGHT
DTSTART;VALUE=DATE-TIME:20130331T030000
TZNAME:CEST
TZOFFSETFROM:+0100
TZOFFSETTO:+0200
END:DAYLIGHT
END:VTIMEZONE
END:VCALENDAR
