BEGIN:VCALENDAR
VERSION:2.0
PRODID:-//Plone.org//NONSGML plone.app.event//EN
X-WR-TIMEZONE:Europe/Berlin
BEGIN:VEVENT
SUMMARY:1. Weltjugend - Nachhaltigkeitsgipfel vom 10. - 20. Mai „Jugend 
 und Nachhaltigkeit im Alltag – Globale Lebensweisen hinterfragen\, über
 denken und neu beleben“
DTSTART;TZID=Europe/Berlin;VALUE=DATE-TIME:20130517T120000
DTEND;TZID=Europe/Berlin;VALUE=DATE-TIME:20130517T180000
DTSTAMP;VALUE=DATE-TIME:20210814T051307Z
UID:5501d289162f4477aea2135ecc14f811@localhost:8080
CONTACT:http://www.youthinkgreen.org/de/1-weltjugend-nachhaltigkeitsgipfel
 -2013/
CREATED;VALUE=DATE-TIME:20130507T073444Z
DESCRIPTION:Das Potsdam-Institut für Klimafolgenforschung wird im Rahmen 
 des 1. Weltjugend-Nachhaltigkeitsgipfels 2013 seine Arbeitsschwerpunkte in
  der Erforschung des Klimawandels vorstellen und besonders dessen generati
 onenübergreifende Dimension herausstellen. Hans Joachim Schellnhuber wird
  die über 160 Jugendlichen aus 30 Ländern auf dem Telegraphenberg begrü
 ßen\, um mit ihnen über wesentliche Fragen zum Klimawandel und mögliche
  Zukunftsszenarien zu diskutieren.    
LAST-MODIFIED;VALUE=DATE-TIME:20200831T102622Z
LOCATION:Potsdam-Institut für Klimafolgenforschung (PIK)\, Telegraphenber
 g A 31\,  14473 Potsdam
URL:https://www.pik-potsdam.de/de/aktuelles/oeffentliche-veranstaltungen/1
 .-weltjugend-nachhaltigkeitsgipfel-vom-10.-20.-mai-in-berlin-201ejugend-un
 d-nachhaltigkeit-im-alltag-2013-globale-lebensweisen-hinterfragen-ueberden
 ken-und-neu-beleben201c
END:VEVENT
BEGIN:VTIMEZONE
TZID:Europe/Berlin
X-LIC-LOCATION:Europe/Berlin
BEGIN:DAYLIGHT
DTSTART;VALUE=DATE-TIME:20130331T030000
TZNAME:CEST
TZOFFSETFROM:+0100
TZOFFSETTO:+0200
END:DAYLIGHT
END:VTIMEZONE
END:VCALENDAR
